BEGIN:VCALENDAR
VERSION:2.0
PRODID:-//ddaysoftware.com//NONSGML DDay.iCal 1.0//EN
BEGIN:VEVENT
CLASS:PUBLIC
CREATED:20260423T100614
DESCRIPTION:Der Besuch der Sternwarte gilt als Geheimtipp unter Gästen und 
 Einheimischen. Die Norderneyer Sternfreunde freuen sich\, Interessierten d
 ie Sternwarte und Ihre Arbeit zu zeigen.
DTSTAMP:20260423T100614
DTSTART:20241001T200000
LOCATION:Sternwarte (Bgm. Willi-Lührs-Straße)
SEQUENCE:0
SUMMARY:Besichtigung der Sternwarte
UID:d9c84a23-492c-498e-8c2e-9b4170723318
URL:https://www.norderney-unterkunft.de/Veranstaltungen/Veranstaltungen-Nor
 derney/Besichtigung-Sternwarte-Norderney.htm
END:VEVENT
END:VCALENDAR
